BEGIN:VCALENDAR
VERSION:2.0
PRODID:-//www.qtickets.nl
CALSCALE:GREGORIAN
BEGIN:VEVENT
DTSTAMP:20260425T003159
UID:93D69C5675B5265B
DTSTART:20200901T193000
DTEND:20200901T221500
SUMMARY:Roedelzingen in Enschede
DESCRIPTION:
LOCATION:Mystiek Theater\, Rigtersbleek-Zandvoort 10\, Enschede
SEQUENCE:0
BEGIN:VALARM
ACTION:DISPLAY
DESCRIPTION:Roedelzingen in Enschede
TRIGGER:-PT1H
END:VALARM
END:VEVENT
END:VCALENDAR